BEGIN:VCALENDAR
VERSION:2.0
PRODID:-//ExpressionEngine Easy iCalendar plugin//NONSGML v2.0.0//EN
X-WR-TIMEZONE:America/New_York
X-WR-CALNAME:Upcoming Auctions
BEGIN:VEVENT
UID:1422
DTSTAMP:20251220T090000
DTSTART:20251220T090000
DTEND:20251220T100000
SUMMARY:Southern Grain Liquidation
LOCATION:288 Alston House Road\, Sanford\, NC 27330\, US
DESCRIPTION:December 20th\, 2025 - 9:00am Southern Grain Liquidation Due 
 to the death of partner Jeffrey Frye
URL:https://montgomerytractor.bwpreview.com/auctions/detail/bw14
 22
SEQUENCE:1
END:VEVENT
END:VCALENDAR