BEGIN:VCALENDAR
VERSION:2.0
PRODID:-//ExpressionEngine Easy iCalendar plugin//NONSGML v2.0.0//EN
X-WR-TIMEZONE:America/Chicago
X-WR-CALNAME:Upcoming Auctions
BEGIN:VEVENT
UID:1416
DTSTAMP:20251215T100000
DTSTART:20251215T100000
DTEND:20251215T110000
SUMMARY:End of Year Inventory Reduction Sale
LOCATION:{location}
DESCRIPTION:Armitage End of Year Online Inventory Reduction Sale. This s
 ale will feature Pre Def/Pre Emission Tractors. Tillage Eq. 
 Hay Eq.  Skid Steers. Cattle Eq. and much more. This is not
  an open consignment sale. All equipment is owned by Armitag
 e Eq unless otherwise stated. We will only accept pre approv
 ed farmer owned equipment of a high quality. Please call for
  more details. Thank you to all our customers for your busin
 ess this year\, Happy Holidays and Happy Bidding. 
URL:https://montgomerytractor.bwpreview.com/auctions/detail/bw14
 16
SEQUENCE:1
END:VEVENT
END:VCALENDAR