BEGIN:VCALENDAR
VERSION:2.0
PRODID:-//ExpressionEngine Easy iCalendar plugin//NONSGML v2.0.0//EN
X-WR-TIMEZONE:America/Chicago
X-WR-CALNAME:Upcoming Auctions
BEGIN:VEVENT
UID:1415
DTSTAMP:20260110T095500
DTSTART:20260110T095500
DTEND:20260110T105500
SUMMARY:Winter Machinery Consignment Auction
LOCATION:2102 NW RT 121\, Decatur\, IL 62526\, US
DESCRIPTION:Winter Machinery Consignment Auction **TAKING CONSIGNMENTS N
 OW**   January 10th\, 2026 10AM CST Mike Hall Auction Center
  2102 NW RT 121 Decatur IL 62526   —Just consigned:   -J
 ohn Deere 9660 combine-nice!  -John Deere 8410 MWFD tractor
 -nice! -2015 Case IH 45’ Tiger Mate 200 field cultivator-e
 xcellent condition.  -8 wheel hay rake-operates well.  -Ma
 ssey Ferguson front wheel assist loader tractor with cab and
  a/c. -Late model Massey Ferguson square and round balers. -
 Krone 9’ hay mower -Case IH 75c front wheel assist cab nic
 e! -Case IH 105c w/loader & cab-nice! -Kubota Hay Rake-like 
 new.  -Ford Diesel Loader Tractor with 3 Point & PTO\, new f
 ront tires\, runs well (no power steering).  -6’ Bush Hog\,
  works.  -John Deere 920 grain head with poly bottom-operat
 es\, needs a few fingers installed. -John Deere 918 grain hea
 d-works well.  -IH 24’ wing disc-nice!  -numerous runnin
 g gears and gravity wagons. -livestock equipment. -P&H 20 to
 n all terrain crane. Runs and operates well. Over $20k just 
 spent on the transmission rebuild.   Call Evan to consign: 
 217-859-2003
URL:https://montgomerytractor.bwpreview.com/auctions/detail/bw14
 15
SEQUENCE:1
END:VEVENT
END:VCALENDAR