BEGIN:VCALENDAR
VERSION:2.0
PRODID:-//ExpressionEngine Easy iCalendar plugin//NONSGML v2.0.0//EN
X-WR-TIMEZONE:America/New_York
X-WR-CALNAME:Upcoming Auctions
BEGIN:VEVENT
UID:1414
DTSTAMP:20251211T090007
DTSTART:20251211T090007
DTEND:20251211T100007
SUMMARY:McKillip Machinery Winter Consignment Auction
LOCATION:700 W 50 N\, Wabash\, IN 46992\, US
DESCRIPTION:McKillip Machinery Winter Consignment Auction December 11th\,
  2025 at 9AM ET Online Buyer's Premium - 5% NO CAP McKillip 
 Machinery is holding a consignment auction with a wide arran
 ge of items offered at auction including combines\, tractors\,
  trucks\, farm implements\, attachments\, lawn & garden equipme
 nt\, industrial equipment\, and many more items. Please make p
 lans to attend our on-site event in Wabash\, Indiana or regis
 ter to bid online!
URL:https://montgomerytractor.bwpreview.com/auctions/detail/bw14
 14
SEQUENCE:1
END:VEVENT
END:VCALENDAR