BEGIN:VCALENDAR
VERSION:2.0
PRODID:-//ExpressionEngine Easy iCalendar plugin//NONSGML v2.0.0//EN
X-WR-TIMEZONE:America/New_York
X-WR-CALNAME:Upcoming Auctions
BEGIN:VEVENT
UID:1412
DTSTAMP:20251213T090000
DTSTART:20251213T090000
DTEND:20251213T100000
SUMMARY:RDD December Farm & Construction Equipment Auction
LOCATION:1260 Raynor Mill Rd.\, Mt. Olive\, NC 28365\, US
DESCRIPTION:December 13th\, 2025 - 9:00am Farm & Construction Equipment A
 uction Ring 1
URL:https://montgomerytractor.bwpreview.com/auctions/detail/bw14
 12
SEQUENCE:1
END:VEVENT
END:VCALENDAR