BEGIN:VCALENDAR
VERSION:2.0
PRODID:-//ExpressionEngine Easy iCalendar plugin//NONSGML v2.0.0//EN
X-WR-TIMEZONE:America/New_York
X-WR-CALNAME:Upcoming Auctions
BEGIN:VEVENT
UID:1398
DTSTAMP:20251223T100000
DTSTART:20251223T100000
DTEND:20251223T110000
SUMMARY:Pominville Farm Equipment Dispersal
LOCATION:11248 NY-812\, Croghan\, NY 13327\, US
DESCRIPTION:Join us for this farm equipment dispersal! After many years 
 in the ag industry\, Terry Pominville has sold the farm\, and 
 has given us the privilege to disperse of the equipment. Som
 e of the machinery has sold with the real estate. Most equip
 ment has been bought new and well maintained.
URL:https://montgomerytractor.bwpreview.com/auctions/detail/bw13
 98
SEQUENCE:1
END:VEVENT
END:VCALENDAR