BEGIN:VCALENDAR
VERSION:2.0
PRODID:-//ExpressionEngine Easy iCalendar plugin//NONSGML v2.0.0//EN
X-WR-TIMEZONE:America/New_York
X-WR-CALNAME:Upcoming Auctions
BEGIN:VEVENT
UID:1391
DTSTAMP:20251211T090000
DTSTART:20251211T090000
DTEND:20251211T100000
SUMMARY:Gross Auction Winter Farm Consignment Sale
LOCATION:10145 Sheridan Rd.\, Montrose\, MI 48457\, US
DESCRIPTION:Gross Auction Winter Farm Consignment Sale December 11th\, 20
 25 NO ONSITE BIDDING - ONLINE BIDDING ONLY! NO LOAD OUT DAY 
 OF THE AUCTION!!  Load out will start Friday and Saturday 9
 -5 . We will be closed Sunday and resume load out Monday- Fr
 iday 9-5 10145 Sheridan Rd Montrose\, MI 48457  
URL:https://montgomerytractor.bwpreview.com/auctions/detail/bw13
 91
SEQUENCE:1
END:VEVENT
END:VCALENDAR