BEGIN:VCALENDAR
VERSION:2.0
PRODID:-//ExpressionEngine Easy iCalendar plugin//NONSGML v2.0.0//EN
X-WR-TIMEZONE:America/New_York
X-WR-CALNAME:Upcoming Auctions
BEGIN:VEVENT
UID:1388
DTSTAMP:20251209T083000
DTSTART:20251209T083000
DTEND:20251209T093000
SUMMARY:17th Annual Turf Equipment Auction
LOCATION:{location}
DESCRIPTION:Golf Course Equipment\, Sports Turf Machinery\, Commercial Mow
 ers\, Utility Vehicle\, Tractors\, and more. - Tuesday December
  9\, 2025 - 8:30am EST. Bid Live Onsite or Online! WEEKS FARM
  MACHINERY AUCTION 2186 SYLVESTER HWY MOULTRIE\, GA 31768 229
 -985-5048 Weeks Farm Machinery Auction\, Inc. has been servin
 g the farming community since 1948. Buyer's Premium: A 10% B
 uyer’s Premium with a $350 cap per item will be applied to
  all purchases. Internet Fee: A 3% Internet fee will be appl
 ied to all online purchases. Preview Date & Times: Weeks Far
 m Machinery Auction is open from 8am to 5pm Monday - Friday 
 and from 8am till noon the Saturday before the auction. Item
 s can be inspected any time during these hours. We will be c
 losed November 26th\, 27th and 28th for Thanksgiving. Checkou
 t Date & Times: Equipment can be removed from the sale site 
 ONLY after Weeks Farm Machinery has received PAYMENT IN FULL
 . NO EXCEPTIONS. Loading Times: 8:00am-12:00 pm EST and 1:00
 pm-5:00 pm EST Monday-Friday 8:00am-12:00 pm EST the Saturda
 y after the auction Location: 2186 Albany Sylvester Hwy.\, Mo
 ultrie\, GA
URL:https://montgomerytractor.bwpreview.com/auctions/detail/bw13
 88
SEQUENCE:1
END:VEVENT
END:VCALENDAR