BEGIN:VCALENDAR
VERSION:2.0
PRODID:-//ExpressionEngine Easy iCalendar plugin//NONSGML v2.0.0//EN
X-WR-TIMEZONE:America/New_York
X-WR-CALNAME:Upcoming Auctions
BEGIN:VEVENT
UID:1372
DTSTAMP:20251216T090000
DTSTART:20251216T090000
DTEND:20251216T100000
SUMMARY:Edgewood Farms LLC Equipment Dispersal
LOCATION:5064 Wilson Rd\, Groveland\, NY 14462\, US
DESCRIPTION:Join us for this late model equipment dispersal! Edgewood Fa
 rms LLC is discontinuing the cash crop farming to focus thei
 r full attention on the grain and trucking operations. Equip
 ment has been well maintained.
URL:https://montgomerytractor.bwpreview.com/auctions/detail/bw13
 72
SEQUENCE:1
END:VEVENT
END:VCALENDAR