BEGIN:VCALENDAR
VERSION:2.0
PRODID:-//ExpressionEngine Easy iCalendar plugin//NONSGML v2.0.0//EN
X-WR-TIMEZONE:America/Los_Angeles
X-WR-CALNAME:Upcoming Auctions
BEGIN:VEVENT
UID:1365
DTSTAMP:20251212T100000
DTSTART:20251212T100000
DTEND:20251212T110000
SUMMARY:Don MacMillan Farms-December 12th 2025
LOCATION:14146 Rd 152\, Tipton\, CA 93272\, US
DESCRIPTION:Don MacMillan Farms-Friday December 12th 2025 14146 Rd 152 
  Tipton\, CA 93272 -Pre bidding Starts December 2nd-December
  11th with live Virtual Auctioneer & Online Bidding Auction
  Starting on December 12th AT 10:00 AM Pacific Standard Tim
 e. All lots with sell by auctioneer for this auction. -Regis
 tered bidders can either participate IN PERSON from Don Mac
 millan Farms 14146 Rd 152 Tipton\, CA 93272 Or simply bid o
 nline. -Inspection Dates: December 8th-December 12th 8-4 da
 ily -Registered Bidders can attend the auction on preview da
 ys and sale day.   Questions? Call: Jeremy Martella 559-905
 -2000 Jason Black 559-366-2897 Dylan Black 559-358-0649
URL:https://montgomerytractor.bwpreview.com/auctions/detail/bw13
 65
SEQUENCE:1
END:VEVENT
END:VCALENDAR